BEGIN:VCALENDAR
VERSION:2.0
PRODID:-//eventon.com NONSGML v1.0//EN
CALSCALE:GREGORIAN
METHOD:PUBLISH
BEGIN:VEVENT
UID:69e63c56213fe
DTSTAMP:20260420T144646Z
DTSTART:20200324
DTEND:20200325
LOCATION:
SUMMARY:AAOS Annual Meeting (Cancelled)
DESCRIPTION:March 24-28\,  2020 | Orlando\, FL AAOS has been cancelled due 
 to health reasons. For more information\,  visit the AAOS website here. Sor
 ry we aren&#8217;t able to attend AAOS this year. You can still discover ho
 w to benefit from joining a network to develop your regenerative program wi
 th comprehensive support and[..]\nhttps://carestreamamerica.com/events/aaos
 -annual-meeting/
URL:https://carestreamamerica.com/events/aaos-annual-meeting/
END:VEVENT
END:VCALENDAR