BEGIN:VCALENDAR
VERSION:2.0
PRODID:-//eventon.com NONSGML v1.0//EN
CALSCALE:GREGORIAN
METHOD:PUBLISH
BEGIN:VEVENT
UID:69e74e5b91d63
DTSTAMP:20260421T101555Z
DTSTART:20240321
DTEND:20240322
LOCATION:
SUMMARY:Los Angeles Multi-Specialty Cosmetic Academy (LA-MCA) 2024
DESCRIPTION:March 21 &#8211; 24\,  2024 | Los Angeles\,  CA The Los Angeles
  Multi-Specialty Cosmetic Academy (LA-MCA) national meeting returns with to
 p aesthetic medicine experts and industry partners under one roof. Visit th
 e CAREstream America Booth to learn how you can enhance your practice and p
 atient experience with the use of[..]\nhttps://carestreamamerica.com/events
 /los-angeles-multi-specialty-cosmetic-academy-lamca-2024/
URL:https://carestreamamerica.com/events/los-angeles-multi-specialty-cosmetic-academy-lamca-2024/
END:VEVENT
END:VCALENDAR