BEGIN:VCALENDAR
VERSION:2.0
PRODID:-//eventon.com NONSGML v1.0//EN
CALSCALE:GREGORIAN
METHOD:PUBLISH
BEGIN:VEVENT
UID:69e8fc1b9948c
DTSTAMP:20260422T164931Z
DTSTART:20220310
DTEND:20220311
LOCATION:
SUMMARY:Los Angeles Multi-Specialty Cosmetic Academy (LAMCA)
DESCRIPTION:March 10-13 2022 | Los Angeles\,  CA For it&#8217;s 5th year\, 
  the Los Angeles Multi-Specialty Cosmetic Academy (LA-MCA) national annual 
 meeting will be bringing together top aesthetic medicine experts and indust
 ry partners under one roof. Visit our booth to learn how you can enhance yo
 ur practice and patient experience with[..]\nhttps://carestreamamerica.com/
 events/los-angeles-multi-specialty-cosmetic-academy-lamca/
URL:https://carestreamamerica.com/events/los-angeles-multi-specialty-cosmetic-academy-lamca/
END:VEVENT
END:VCALENDAR